BEGIN:VCALENDAR
VERSION:2.0
PRODID:-//Daniel Kolenda - ECPv6.15.20//NONSGML v1.0//EN
CALSCALE:GREGORIAN
METHOD:PUBLISH
X-ORIGINAL-URL:https://danielkolenda.com
X-WR-CALDESC:Events for Daniel Kolenda
REFRESH-INTERVAL;VALUE=DURATION:PT1H
X-Robots-Tag:noindex
X-PUBLISHED-TTL:PT1H
BEGIN:VTIMEZONE
TZID:UTC
BEGIN:STANDARD
TZOFFSETFROM:+0000
TZOFFSETTO:+0000
TZNAME:UTC
DTSTART:20230101T000000
END:STANDARD
END:VTIMEZONE
BEGIN:VEVENT
DTSTART;VALUE=DATE:20240530
DTEND;VALUE=DATE:20240602
DTSTAMP:20260422T105224
CREATED:20240118T211911Z
LAST-MODIFIED:20240410T153802Z
UID:9806-1717027200-1717286399@danielkolenda.com
SUMMARY:CfaN Brazil Fire Conference 2024
DESCRIPTION:A Christ for all Nations hosted event
URL:https://danielkolenda.com/event/cfan-brazil-fire-conference-2024/
LOCATION:Brazil
ATTACH;FMTTYPE=image/jpeg:https://danielkolenda.com/wp-content/uploads/2024/01/maxresdefault.jpg
END:VEVENT
BEGIN:VEVENT
DTSTART;VALUE=DATE:20240613
DTEND;VALUE=DATE:20240624
DTSTAMP:20260422T105224
CREATED:20240614T135858Z
LAST-MODIFIED:20240614T135858Z
UID:9839-1718236800-1719187199@danielkolenda.com
SUMMARY:Uganda 50th Anniversary Gospel Crusades
DESCRIPTION:
URL:https://danielkolenda.com/event/uganda-crusades-2024/
ATTACH;FMTTYPE=image/jpeg:https://danielkolenda.com/wp-content/uploads/2024/06/hoima-24-d2-22658-scaled.jpg
END:VEVENT
END:VCALENDAR