BEGIN:VCALENDAR
VERSION:2.0
PRODID:-//Daniel Kolenda - ECPv6.15.20//NONSGML v1.0//EN
CALSCALE:GREGORIAN
METHOD:PUBLISH
X-WR-CALNAME:Daniel Kolenda
X-ORIGINAL-URL:https://danielkolenda.com
X-WR-CALDESC:Events for Daniel Kolenda
REFRESH-INTERVAL;VALUE=DURATION:PT1H
X-Robots-Tag:noindex
X-PUBLISHED-TTL:PT1H
BEGIN:VTIMEZONE
TZID:UTC
BEGIN:STANDARD
TZOFFSETFROM:+0000
TZOFFSETTO:+0000
TZNAME:UTC
DTSTART:20220101T000000
END:STANDARD
END:VTIMEZONE
BEGIN:VEVENT
DTSTART;TZID=UTC:20230415T083000
DTEND;TZID=UTC:20230415T110000
DTSTAMP:20260423T114700
CREATED:20230321T194824Z
LAST-MODIFIED:20230321T195013Z
UID:9681-1681547400-1681556400@danielkolenda.com
SUMMARY:Impartation Breakfast Meeting - Chicago\, Illinois
DESCRIPTION:You will be blessed and encouraged as you participate in worship and hear of the amazing things that God is doing in and through Christ for all Nations. \nYOUR MORNING INCLUDES – \nA Premium Plated Breakfast\nPersonal Ministry from Evangelist Daniel Kolenda\nVision Casting for the Decade of Double Harvest\nAmazing Worship\nA Priceless Fellowship Experience\nImpartation Prayer for All in Attendance\nYou will not want to miss this unique and special Impartation Breakfast! Seating is limited\, so be sure to register today!
URL:https://danielkolenda.com/event/ibm-chicago/
LOCATION:The Westin Chicago North Shore\, 601 N Milwaukee Ave\, Wheeling\, IL\, 60090\, United States
ATTACH;FMTTYPE=image/jpeg:https://danielkolenda.com/wp-content/uploads/2023/03/httpscdn.evbuc_.comimages45314696.jpg
END:VEVENT
BEGIN:VEVENT
DTSTART;TZID=UTC:20230426T000000
DTEND;TZID=UTC:20230430T000000
DTSTAMP:20260423T114700
CREATED:20230321T195538Z
LAST-MODIFIED:20230321T195717Z
UID:9695-1682467200-1682812800@danielkolenda.com
SUMMARY:Crusade Zambia\, Africa - April 2023
DESCRIPTION:
URL:https://danielkolenda.com/event/crusade-zambia-africa-april-2023/
ATTACH;FMTTYPE=image/jpeg:https://danielkolenda.com/wp-content/uploads/2021/11/010.jpg
END:VEVENT
END:VCALENDAR