BEGIN:VCALENDAR
VERSION:2.0
PRODID:-//Daniel Kolenda - ECPv6.15.20//NONSGML v1.0//EN
CALSCALE:GREGORIAN
METHOD:PUBLISH
X-ORIGINAL-URL:https://danielkolenda.com
X-WR-CALDESC:Events for Daniel Kolenda
REFRESH-INTERVAL;VALUE=DURATION:PT1H
X-Robots-Tag:noindex
X-PUBLISHED-TTL:PT1H
BEGIN:VTIMEZONE
TZID:UTC
BEGIN:STANDARD
TZOFFSETFROM:+0000
TZOFFSETTO:+0000
TZNAME:UTC
DTSTART:20220101T000000
END:STANDARD
END:VTIMEZONE
BEGIN:VEVENT
DTSTART;TZID=UTC:20230325T000000
DTEND;TZID=UTC:20230325T000000
DTSTAMP:20260425T104235
CREATED:20230321T194446Z
LAST-MODIFIED:20230321T195104Z
UID:9677-1679702400-1679702400@danielkolenda.com
SUMMARY:Impartation Breakfast Meeting - Phoenix\, Arizona
DESCRIPTION:You will be blessed and encouraged as you participate in worship and hear of the amazing things that God is doing in and through Christ for all Nations. \nYOUR MORNING INCLUDES – \nA Premium Plated Breakfast\nPersonal Ministry from Evangelist Daniel Kolenda\nVision Casting for the Decade of Double Harvest\nAmazing Worship\nA Priceless Fellowship Experience\nImpartation Prayer for All in Attendance\nYou will not want to miss this unique and special Impartation Breakfast! Seating is limited\, so be sure to register today!
URL:https://danielkolenda.com/event/ibm-phoenix-az/
LOCATION:Renaissance Phoenix Glendale Hotel & Spa\, 9495 W Coyotes Blvd\, Glendale\, AZ\, 85305\, United States
ATTACH;FMTTYPE=image/jpeg:https://danielkolenda.com/wp-content/uploads/2023/03/httpscdn.evbuc_.comimages42349355.jpg
END:VEVENT
END:VCALENDAR