BEGIN:VCALENDAR
VERSION:2.0
PRODID:-//Daniel Kolenda - ECPv6.15.20//NONSGML v1.0//EN
CALSCALE:GREGORIAN
METHOD:PUBLISH
X-ORIGINAL-URL:https://danielkolenda.com
X-WR-CALDESC:Events for Daniel Kolenda
REFRESH-INTERVAL;VALUE=DURATION:PT1H
X-Robots-Tag:noindex
X-PUBLISHED-TTL:PT1H
BEGIN:VTIMEZONE
TZID:UTC
BEGIN:STANDARD
TZOFFSETFROM:+0000
TZOFFSETTO:+0000
TZNAME:UTC
DTSTART:20210101T000000
END:STANDARD
END:VTIMEZONE
BEGIN:VEVENT
DTSTART;VALUE=DATE:20220514
DTEND;VALUE=DATE:20220515
DTSTAMP:20260426T040548
CREATED:20211206T133019Z
LAST-MODIFIED:20220503T183519Z
UID:9363-1652486400-1652572799@danielkolenda.com
SUMMARY:The Send Kansas City
DESCRIPTION:In the midst of confusion\, moral decline\, and church disengagement we see an opportunity for a whole generation of believers to arise who will have no disconnect between their belief and action— Who instead of settling for a life of complacent Christianity will be activated into the message and action of Jesus.
URL:https://danielkolenda.com/event/the-send-kansas-city/
ATTACH;FMTTYPE=image/png:https://danielkolenda.com/wp-content/uploads/2021/12/z-the-send.png
END:VEVENT
BEGIN:VEVENT
DTSTART;VALUE=DATE:20220518
DTEND;VALUE=DATE:20220530
DTSTAMP:20260426T040548
CREATED:20220119T151707Z
LAST-MODIFIED:20220119T151933Z
UID:9437-1652832000-1653868799@danielkolenda.com
SUMMARY:Decapolis ZAMBIA Project
DESCRIPTION:
URL:https://danielkolenda.com/event/decapolis-zambia/
ATTACH;FMTTYPE=image/jpeg:https://danielkolenda.com/wp-content/uploads/2022/01/zambia-pic.jpg
END:VEVENT
END:VCALENDAR