BEGIN:VCALENDAR
VERSION:2.0
PRODID:-//Daniel Kolenda - ECPv6.15.20//NONSGML v1.0//EN
CALSCALE:GREGORIAN
METHOD:PUBLISH
X-ORIGINAL-URL:https://danielkolenda.com
X-WR-CALDESC:Events for Daniel Kolenda
REFRESH-INTERVAL;VALUE=DURATION:PT1H
X-Robots-Tag:noindex
X-PUBLISHED-TTL:PT1H
BEGIN:VTIMEZONE
TZID:UTC
BEGIN:STANDARD
TZOFFSETFROM:+0000
TZOFFSETTO:+0000
TZNAME:UTC
DTSTART:20250101T000000
END:STANDARD
END:VTIMEZONE
BEGIN:VEVENT
DTSTART;TZID=UTC:20260228T090000
DTEND;TZID=UTC:20260228T120000
DTSTAMP:20260422T214748
CREATED:20260128T193119Z
LAST-MODIFIED:20260128T193119Z
UID:10529-1772269200-1772280000@danielkolenda.com
SUMMARY:Impartation Breakfast - Dallas
DESCRIPTION:Christ for all Nations Impartation Breakfast Meeting – Dallas\, Texas
URL:https://danielkolenda.com/event/dallas-ibm26/
LOCATION:Dallas\, Texas
ATTACH;FMTTYPE=image/jpeg:https://danielkolenda.com/wp-content/uploads/2026/01/https___cdn.evbuc_.com_images_1172311605_154385728787_1_original.jpg
END:VEVENT
END:VCALENDAR