BEGIN:VCALENDAR
VERSION:2.0
PRODID:-//Daniel Kolenda - ECPv6.15.20//NONSGML v1.0//EN
CALSCALE:GREGORIAN
METHOD:PUBLISH
X-ORIGINAL-URL:https://danielkolenda.com
X-WR-CALDESC:Events for Daniel Kolenda
REFRESH-INTERVAL;VALUE=DURATION:PT1H
X-Robots-Tag:noindex
X-PUBLISHED-TTL:PT1H
BEGIN:VTIMEZONE
TZID:UTC
BEGIN:STANDARD
TZOFFSETFROM:+0000
TZOFFSETTO:+0000
TZNAME:UTC
DTSTART:20240101T000000
END:STANDARD
END:VTIMEZONE
BEGIN:VEVENT
DTSTART;VALUE=DATE:20251018
DTEND;VALUE=DATE:20251019
DTSTAMP:20260423T005738
CREATED:20250923T143156Z
LAST-MODIFIED:20250923T143752Z
UID:10491-1760745600-1760831999@danielkolenda.com
SUMMARY:Impartation Breakfast - Toronto
DESCRIPTION:Christ for all Nations Impartation Breakfast Meeting – Toronto\, Canada
URL:https://danielkolenda.com/event/toronto-ibm25/
ATTACH;FMTTYPE=image/png:https://danielkolenda.com/wp-content/uploads/2025/09/blob.png
END:VEVENT
END:VCALENDAR