BEGIN:VCALENDAR
VERSION:2.0
PRODID:-//Daniel Kolenda - ECPv6.15.20//NONSGML v1.0//EN
CALSCALE:GREGORIAN
METHOD:PUBLISH
X-ORIGINAL-URL:https://danielkolenda.com
X-WR-CALDESC:Events for Daniel Kolenda
REFRESH-INTERVAL;VALUE=DURATION:PT1H
X-Robots-Tag:noindex
X-PUBLISHED-TTL:PT1H
BEGIN:VTIMEZONE
TZID:UTC
BEGIN:STANDARD
TZOFFSETFROM:+0000
TZOFFSETTO:+0000
TZNAME:UTC
DTSTART:20240101T000000
END:STANDARD
END:VTIMEZONE
BEGIN:VEVENT
DTSTART;VALUE=DATE:20250912
DTEND;VALUE=DATE:20250914
DTSTAMP:20260422T230020
CREATED:20250519T194816Z
LAST-MODIFIED:20250519T195224Z
UID:9968-1757635200-1757807999@danielkolenda.com
SUMMARY:Lifestyle Christianity Power & Love Conference
DESCRIPTION:Daniel Kolenda Speaking Engagement
URL:https://danielkolenda.com/event/power-love-conference/
LOCATION:Fort Worth\, Texas
ATTACH;FMTTYPE=image/png:https://danielkolenda.com/wp-content/uploads/2025/05/fort_worth_pl_slide-1-scaled.png
END:VEVENT
END:VCALENDAR