BEGIN:VCALENDAR
VERSION:2.0
PRODID:-//Daniel Kolenda - ECPv6.15.20//NONSGML v1.0//EN
CALSCALE:GREGORIAN
METHOD:PUBLISH
X-ORIGINAL-URL:https://danielkolenda.com
X-WR-CALDESC:Events for Daniel Kolenda
REFRESH-INTERVAL;VALUE=DURATION:PT1H
X-Robots-Tag:noindex
X-PUBLISHED-TTL:PT1H
BEGIN:VTIMEZONE
TZID:UTC
BEGIN:STANDARD
TZOFFSETFROM:+0000
TZOFFSETTO:+0000
TZNAME:UTC
DTSTART:20240101T000000
END:STANDARD
END:VTIMEZONE
BEGIN:VEVENT
DTSTART;VALUE=DATE:20250612
DTEND;VALUE=DATE:20250615
DTSTAMP:20260422T174219
CREATED:20250519T193241Z
LAST-MODIFIED:20250519T194142Z
UID:9955-1749686400-1749945599@danielkolenda.com
SUMMARY:CfaN Fire25 Germany
DESCRIPTION:
URL:https://danielkolenda.com/event/fire25germany/
LOCATION:Messe Friedrichshafen – Halle A1\, Neue Messe 1\, Friedrichshafen\, Baden-Württemberg\, 88046\, Germany
ATTACH;FMTTYPE=image/jpeg:https://danielkolenda.com/wp-content/uploads/2025/05/fire25-1200x630_en.jpg
END:VEVENT
END:VCALENDAR