BEGIN:VCALENDAR
VERSION:2.0
PRODID:-//Daniel Kolenda - ECPv6.15.20//NONSGML v1.0//EN
CALSCALE:GREGORIAN
METHOD:PUBLISH
X-ORIGINAL-URL:https://danielkolenda.com
X-WR-CALDESC:Events for Daniel Kolenda
REFRESH-INTERVAL;VALUE=DURATION:PT1H
X-Robots-Tag:noindex
X-PUBLISHED-TTL:PT1H
BEGIN:VTIMEZONE
TZID:UTC
BEGIN:STANDARD
TZOFFSETFROM:+0000
TZOFFSETTO:+0000
TZNAME:UTC
DTSTART:20230101T000000
END:STANDARD
END:VTIMEZONE
BEGIN:VEVENT
DTSTART;VALUE=DATE:20241106
DTEND;VALUE=DATE:20241111
DTSTAMP:20260422T135658
CREATED:20240614T141139Z
LAST-MODIFIED:20240806T154604Z
UID:9848-1730851200-1731283199@danielkolenda.com
SUMMARY:Abuja\, Nigeria 50th Anniversary Gospel Crusades
DESCRIPTION:
URL:https://danielkolenda.com/event/nigeria-crusades-2024/
ATTACH;FMTTYPE=image/jpeg:https://danielkolenda.com/wp-content/uploads/2024/06/aba24-md2-w1-cb-3100-scaled.jpg
END:VEVENT
END:VCALENDAR