BEGIN:VCALENDAR
VERSION:2.0
PRODID:-//Daniel Kolenda - ECPv6.15.20//NONSGML v1.0//EN
CALSCALE:GREGORIAN
METHOD:PUBLISH
X-WR-CALNAME:Daniel Kolenda
X-ORIGINAL-URL:https://danielkolenda.com
X-WR-CALDESC:Events for Daniel Kolenda
REFRESH-INTERVAL;VALUE=DURATION:PT1H
X-Robots-Tag:noindex
X-PUBLISHED-TTL:PT1H
BEGIN:VTIMEZONE
TZID:UTC
BEGIN:STANDARD
TZOFFSETFROM:+0000
TZOFFSETTO:+0000
TZNAME:UTC
DTSTART:20230101T000000
END:STANDARD
END:VTIMEZONE
BEGIN:VEVENT
DTSTART;VALUE=DATE:20240821
DTEND;VALUE=DATE:20240822
DTSTAMP:20260422T090705
CREATED:20240806T155326Z
LAST-MODIFIED:20240806T155326Z
UID:9891-1724198400-1724284799@danielkolenda.com
SUMMARY:Assembly of God Centennial Celebration - Brazil
DESCRIPTION:Daniel Kolenda Speaking Engagement
URL:https://danielkolenda.com/event/assembly-of-god-centennial-celebration-brazil/
ATTACH;FMTTYPE=image/png:https://danielkolenda.com/wp-content/uploads/2024/08/aog.png
END:VEVENT
END:VCALENDAR