BEGIN:VCALENDAR
VERSION:2.0
PRODID:-//Daniel Kolenda - ECPv6.15.20//NONSGML v1.0//EN
CALSCALE:GREGORIAN
METHOD:PUBLISH
X-WR-CALNAME:Daniel Kolenda
X-ORIGINAL-URL:https://danielkolenda.com
X-WR-CALDESC:Events for Daniel Kolenda
REFRESH-INTERVAL;VALUE=DURATION:PT1H
X-Robots-Tag:noindex
X-PUBLISHED-TTL:PT1H
BEGIN:VTIMEZONE
TZID:UTC
BEGIN:STANDARD
TZOFFSETFROM:+0000
TZOFFSETTO:+0000
TZNAME:UTC
DTSTART:20230101T000000
END:STANDARD
END:VTIMEZONE
BEGIN:VEVENT
DTSTART;VALUE=DATE:20240218
DTEND;VALUE=DATE:20240219
DTSTAMP:20260422T192603
CREATED:20240116T165306Z
LAST-MODIFIED:20240118T205600Z
UID:9760-1708214400-1708300799@danielkolenda.com
SUMMARY:CfaN 50th Anniversary Cape Town Launch
DESCRIPTION:A Christ for all Nations hosted event
URL:https://danielkolenda.com/event/cape-town-launch-2024/
LOCATION:Cape Town\, South Africa
ATTACH;FMTTYPE=image/jpeg:https://danielkolenda.com/wp-content/uploads/2021/11/054.jpg
END:VEVENT
END:VCALENDAR