BEGIN:VCALENDAR
VERSION:2.0
PRODID:-//Daniel Kolenda - ECPv6.15.20//NONSGML v1.0//EN
CALSCALE:GREGORIAN
METHOD:PUBLISH
X-ORIGINAL-URL:https://danielkolenda.com
X-WR-CALDESC:Events for Daniel Kolenda
REFRESH-INTERVAL;VALUE=DURATION:PT1H
X-Robots-Tag:noindex
X-PUBLISHED-TTL:PT1H
BEGIN:VTIMEZONE
TZID:UTC
BEGIN:STANDARD
TZOFFSETFROM:+0000
TZOFFSETTO:+0000
TZNAME:UTC
DTSTART:20230101T000000
END:STANDARD
END:VTIMEZONE
BEGIN:VEVENT
DTSTART;VALUE=DATE:20240211
DTEND;VALUE=DATE:20240214
DTSTAMP:20260422T192824
CREATED:20240118T211547Z
LAST-MODIFIED:20240118T211935Z
UID:9802-1707609600-1707868799@danielkolenda.com
SUMMARY:King of Kings Church Youth Conference
DESCRIPTION:Daniel Kolenda Speaking Engagement
URL:https://danielkolenda.com/event/king-of-kings-church-youth-conference/
LOCATION:Buenos Aires\, Argentina
ATTACH;FMTTYPE=image/jpeg:https://danielkolenda.com/wp-content/uploads/2024/01/https___cdn.evbuc_.com_images_659408029_500409195767_1_original.jpeg
END:VEVENT
END:VCALENDAR