BEGIN:VCALENDAR
VERSION:2.0
PRODID:-//Daniel Kolenda - ECPv6.15.20//NONSGML v1.0//EN
CALSCALE:GREGORIAN
METHOD:PUBLISH
X-WR-CALNAME:Daniel Kolenda
X-ORIGINAL-URL:https://danielkolenda.com
X-WR-CALDESC:Events for Daniel Kolenda
REFRESH-INTERVAL;VALUE=DURATION:PT1H
X-Robots-Tag:noindex
X-PUBLISHED-TTL:PT1H
BEGIN:VTIMEZONE
TZID:UTC
BEGIN:STANDARD
TZOFFSETFROM:+0000
TZOFFSETTO:+0000
TZNAME:UTC
DTSTART:20230101T000000
END:STANDARD
END:VTIMEZONE
BEGIN:VEVENT
DTSTART;VALUE=DATE:20240116
DTEND;VALUE=DATE:20240119
DTSTAMP:20260422T210517
CREATED:20240116T163754Z
LAST-MODIFIED:20240118T205705Z
UID:9744-1705363200-1705622399@danielkolenda.com
SUMMARY:KCM Ministers Conference
DESCRIPTION:Daniel Kolenda Speaking Engagement
URL:https://danielkolenda.com/event/kcm-ministers-conference/
LOCATION:Dallas\, Texas
ATTACH;FMTTYPE=image/jpeg:https://danielkolenda.com/wp-content/uploads/2024/01/mc2024-brushfire-email-header-confirmation-1200x400-1.jpg
END:VEVENT
END:VCALENDAR